BEGIN:VCALENDAR
VERSION:2.0
PRODID:-//CERN//INDICO//EN
BEGIN:VEVENT
SUMMARY:Coding tra le stelle
DTSTART:20261012T130000Z
DTEND:20261016T170000Z
DTSTAMP:20260420T001500Z
UID:indico-event-3574@indico.ict.inaf.it
CONTACT:maura.sandri@inaf.it
DESCRIPTION:Speakers: Maura Sandri (Istituto Nazionale di Astrofisica (INA
 F))\n\n\nIl corso “Coding tra le stelle” è un percorso formativo rivo
 lto agli insegnanti di scuola primaria e secondaria\, progettato per integ
 rare il coding nella didattica. I partecipanti esploreranno proposte che s
 paziano dal coding unplugged alla programmazione con Scratch\, fino alla r
 obotica educativa e all’elettronica con Arduino.\nDurante le giornate\, 
 momenti plenari introdurranno strumenti e metodologie\, mentre i laborator
 i pratici offriranno esperienze facilmente trasferibili in classe: escape 
 room scientifiche\, pixel art\, digital storytelling\, simulazioni sul Sis
 tema solare\, attività di elettronica\, robotica educativa e giochi.\nIl 
 corso mira a fornire competenze operative e spunti concreti per rendere l
 ’apprendimento più interattivo e coinvolgente\, promuovendo al contempo
  lo sviluppo del pensiero computazionale e delle competenze digitali.\n\nh
 ttps://indico.ict.inaf.it/event/3574/
LOCATION:216 e 214 (Area della Ricerca di Bologna)
URL:https://indico.ict.inaf.it/event/3574/
END:VEVENT
END:VCALENDAR
